BEGIN:VCALENDAR
VERSION:2.0
PRODID:-//ChamberMaster//Event Calendar 2.0//EN
METHOD:PUBLISH
X-PUBLISHED-TTL:P3D
REFRESH-INTERVAL:P3D
CALSCALE:GREGORIAN
BEGIN:VEVENT
DTSTART:20200626T000000Z
DTEND:20200626T020000Z
X-MICROSOFT-CDO-ALLDAYEVENT:FALSE
SUMMARY:ZOOM Business After Hours hosted by WVC Foundation
DESCRIPTION:Save the date! Our FREE monthly networking event is coming back via Zoom this month. We will have more information on our website coming soon.\n\n\n\nRegistration is required so please RSVP at Wenatchee.org or info@wenatchee.org to receive the Zoom event information.
X-ALT-DESC;FMTTYPE=text/html:Save the date! Our FREE monthly networking event is coming back via Zoom this month. We will have more information on our website coming soon.<br />\n<br />\nRegistration is required so please RSVP at Wenatchee.org or info@wenatchee.org to receive the Zoom event information.
LOCATION:Zoom
UID:e.289.7721
SEQUENCE:3
DTSTAMP:20260424T223132Z
URL:https://business.wenatchee.org/events/details/zoom-business-after-hours-hosted-by-wvc-foundation-7721
END:VEVENT

END:VCALENDAR
