BEGIN:VCALENDAR
VERSION:2.0
PRODID:-//ChamberMaster//Event Calendar 2.0//EN
METHOD:PUBLISH
X-PUBLISHED-TTL:P3D
REFRESH-INTERVAL:P3D
CALSCALE:GREGORIAN
BEGIN:VEVENT
DTSTART:20190426T003000Z
DTEND:20190426T013000Z
X-MICROSOFT-CDO-ALLDAYEVENT:FALSE
SUMMARY:YWCA- Standing in the Shadows- Panel & Discussion
DESCRIPTION:YWCA NCW and 12 Tribes Resort and Casino present: Standing in the Shadows\, the second of four panel discussions in 2019. YWCA NCW is requesting the public attendance April 25th at Wenatchee Museum and Cultural Center for this quarters topic: Immigration. Featuring YWCA USA CEO Alejandra Castillo as a panelist. Tickets can be purchased for $15 at www.ywcancw.eventbrite.com\, panel and discussion start at 5:30pm.
X-ALT-DESC;FMTTYPE=text/html:<p><span class="normaltextrun"><span style="font-size:12.0pt\;font-family:&quot\;Arial&quot\;\,sans-serif\;\ncolor:#2A2A2A">&#8239\;YWCA NCW&nbsp\;</span></span><span style="font-size:12.0pt\;\nfont-family:&quot\;Arial&quot\;\,sans-serif\;color:black">and 12 Tribes Resort and Casino present: Standing in the Shadows\, the second of four panel discussions in 2019. YWCA NCW is requesting the public attendance April 25<sup>th</sup> at Wenatchee Museum and Cultural Center for this quarters topic: Immigration. Featuring YWCA USA CEO Alejandra Castillo as a panelist. Tickets can be purchased for $15 at <a href="http://www.ywcancw.eventbrite.com">www.ywcancw.eventbrite.com</a></span><span style="font-family:&quot\;Arial&quot\;\,sans-serif\;color:#2A2A2A">\, panel and discussion start at 5:30pm.</span><span style="font-size:12.0pt\;color:black"><o:p></o:p></span></p>\n
LOCATION:Wenatchee Valley Museum & Cultural Center
UID:e.289.7279
SEQUENCE:3
DTSTAMP:20260425T232550Z
URL:https://business.wenatchee.org/events/details/ywca-standing-in-the-shadows-panel-discussion-7279
END:VEVENT

END:VCALENDAR
