BEGIN:VCALENDAR
VERSION:2.0
PRODID:-//ChamberMaster//Event Calendar 2.0//EN
METHOD:PUBLISH
X-PUBLISHED-TTL:P3D
REFRESH-INTERVAL:P3D
CALSCALE:GREGORIAN
BEGIN:VEVENT
DTSTART:20190425T160000Z
DTEND:20190425T220000Z
X-MICROSOFT-CDO-ALLDAYEVENT:FALSE
SUMMARY:YWCA- Stand Against Racism Campus Day 2019
DESCRIPTION:YWCA NCW and 12 Tribes Resort and Casino is partnering with Wenatchee Valley College to host the 5th annual Stand Against Racism week at Wenatchee Valley College\, April 25\, 2019 9:00 AM to 3:00 PM. Join YWCA NCW\, and their sponsors for community campus day. A day of compelling celebrity speakers\, educators\, food\, art\, and immigrant justice action. Hosted at Wenatchee Valley College\, 9am to 3pm. No cost to the public.
X-ALT-DESC;FMTTYPE=text/html:<p><span style="font-size:10.0pt\;font-family:&quot\;Arial&quot\;\,sans-serif\;color:black">YWCA NCW and 12 Tribes Resort and Casino&nbsp\;is partnering with Wenatchee Valley College to host the 5th&nbsp\;annual Stand Against Racism week at Wenatchee Valley College\, April 25\, 2019 9:00 AM to 3:00 PM. Join YWCA NCW\, and their sponsors for&nbsp\;community campus day. A day of compelling celebrity speakers\, educators\, food\, art\, and immigrant justice action.</span><span class="eop"><span style="font-size:12.0pt\;font-family:&quot\;Arial&quot\;\,sans-serif\;color:black">&nbsp\;Hosted at Wenatchee Valley College\, 9am to 3pm. No cost to the public.&nbsp\;</span></span><span style="font-size:12.0pt\;color:black"><o:p></o:p></span></p>\n
LOCATION:Wenatchee Valley College
UID:e.289.7280
SEQUENCE:3
DTSTAMP:20260425T215041Z
URL:https://business.wenatchee.org/events/details/ywca-stand-against-racism-campus-day-2019-7280
END:VEVENT

END:VCALENDAR
