BEGIN:VCALENDAR
VERSION:2.0
PRODID:-//ChamberMaster//Event Calendar 2.0//EN
METHOD:PUBLISH
X-PUBLISHED-TTL:P3D
REFRESH-INTERVAL:P3D
CALSCALE:GREGORIAN
BEGIN:VEVENT
DTSTART:20220224T220000Z
DTEND:20220225T000000Z
X-MICROSOFT-CDO-ALLDAYEVENT:FALSE
SUMMARY:YP in Wenatchee: Agriculture and Economy at Faire Le Pont Winery
DESCRIPTION:For the first time ever\, YP is coming to Wenatchee! On February 24th from 2-4pm\, join us at the beautiful Faire Le Pont Winery to discuss local economic\, environmental\, and agricultural issues. This event will feature two Washington Policy Center researchers\, Todd Myers and Pam Lewison\, as well as local pear orchardist and agricultural consultant Ray Schmitten. Light appetizers and wine will be served.
X-ALT-DESC;FMTTYPE=text/html:For the first time ever\, YP is coming to Wenatchee! On February 24th from 2-4pm\, join us at the beautiful Faire Le Pont Winery to discuss local economic\, environmental\, and agricultural issues. This event will feature two Washington Policy Center researchers\, Todd Myers and Pam Lewison\, as well as local pear orchardist and agricultural consultant Ray Schmitten. Light appetizers and wine will be served.
LOCATION:Faire Le Pont Winery 1 Vineyard Way Wenatchee\, WA\, 98801
UID:e.289.7946
SEQUENCE:3
DTSTAMP:20260424T220054Z
URL:https://business.wenatchee.org/events/details/yp-in-wenatchee-agriculture-and-economy-at-faire-le-pont-winery-7946
END:VEVENT

END:VCALENDAR
