BEGIN:VCALENDAR
VERSION:2.0
PRODID:-//ChamberMaster//Event Calendar 2.0//EN
METHOD:PUBLISH
X-PUBLISHED-TTL:P3D
REFRESH-INTERVAL:P3D
CALSCALE:GREGORIAN
BEGIN:VEVENT
DTSTART:20220201T200000Z
DTEND:20220201T200000Z
X-MICROSOFT-CDO-ALLDAYEVENT:FALSE
SUMMARY:YMCA Community Survey
DESCRIPTION:The Wenatchee Valley YMCA would like your input as we build our future - together!\n\n\n\nWe have a once-in-a-generation opportunity to build a new facility\, and every voice matters. Please take and share our survey at:\n\n\n\nwww.surveymonkey.com/r/BLCZY9D\n\n\n\n(Survey open through Feb. 21st)
X-ALT-DESC;FMTTYPE=text/html:The Wenatchee Valley YMCA would like your input as we build our future - together!<br />\n<br />\nWe have a once-in-a-generation opportunity to build a new facility\, and every voice matters. Please take and share our survey at:<br />\n<br />\nwww.surveymonkey.com/r/BLCZY9D<br />\n<br />\n(Survey open through Feb. 21st)
LOCATION:
UID:e.289.7934
SEQUENCE:3
DTSTAMP:20260424T215459Z
URL:https://business.wenatchee.org/events/details/ymca-community-survey-7934
END:VEVENT

END:VCALENDAR
