BEGIN:VCALENDAR
VERSION:2.0
PRODID:-//ChamberMaster//Event Calendar 2.0//EN
METHOD:PUBLISH
X-PUBLISHED-TTL:P3D
REFRESH-INTERVAL:P3D
CALSCALE:GREGORIAN
BEGIN:VEVENT
DTSTART:20190831T180000Z
DTEND:20190831T210000Z
X-MICROSOFT-CDO-ALLDAYEVENT:FALSE
SUMMARY:WVHS Pet Food Assistance
DESCRIPTION:WVHS hosts a monthly Food Bank for those needing assistance with dog or cat food. Doors open at 11am and will distribute until supplies run out\, or scheduled closing time (whichever comes first). Participants must be income qualified. Please bring ID and income verification (pay stub\, SNAP or SS paperwork\, medicaid/medicare card) to participate. First come\, first served - no reservations will be taken. Once the food has run out\, there will be no more food assistance until the next Public Food Bank day (the last Saturday of each month). One distribution per household.
X-ALT-DESC;FMTTYPE=text/html:WVHS hosts a monthly Food Bank for those needing assistance with dog or cat food. Doors open at 11am and will distribute until supplies run out\, or scheduled closing time (whichever comes first). Participants must be income qualified. Please bring ID and income verification (pay stub\, SNAP or SS paperwork\, medicaid/medicare card) to participate. First come\, first served - no reservations will be taken. Once the food has run out\, there will be no more food assistance until the next Public Food Bank day (the last Saturday of each month). One distribution per household.
LOCATION:Wenatchee Valley Humane Society 1474 South Wenatchee Avenue Wenatchee\, WA 98801
UID:e.289.7085
SEQUENCE:3
DTSTAMP:20260425T151757Z
URL:https://business.wenatchee.org/events/details/wvhs-pet-food-assistance-08-24-2019-7085
END:VEVENT

END:VCALENDAR
