BEGIN:VCALENDAR
VERSION:2.0
PRODID:-//ChamberMaster//Event Calendar 2.0//EN
METHOD:PUBLISH
X-PUBLISHED-TTL:P3D
REFRESH-INTERVAL:P3D
CALSCALE:GREGORIAN
BEGIN:VEVENT
DTSTART:20201202T200000Z
DTEND:20201207T010000Z
X-MICROSOFT-CDO-ALLDAYEVENT:FALSE
SUMMARY:WVHS Holiday Wreath Auction 2020
DESCRIPTION:The holiday elves at WVHS (a.k.a. crafty and creative staff\, board members and volunteers) have been busy creating holiday magic to bring your very favorite part of our Holiday Brunch to your home\, where you can bid on beautiful holiday wreaths and d cor in support of the WVHS Medical Fund. Join us online December 2nd @ 12 p.m. - December 6th @ 5 p.m. for the WVHS Virtual Holiday Wreath Auction Registration is FREE! RSVP now! All proceeds from this event benefit the WVHS Medical Fund which allows medical care for homeless and injured animals
X-ALT-DESC;FMTTYPE=text/html:The holiday elves at WVHS (a.k.a. crafty and creative staff\, board members and volunteers) have been busy creating holiday magic to bring your very favorite part of our Holiday Brunch to your home\, where you can bid on beautiful holiday wreaths and d&eacute\;cor in support of the WVHS Medical Fund. Join us online December 2nd @ 12 p.m. - December 6th @ 5 p.m. for the WVHS Virtual Holiday Wreath Auction Registration is FREE! RSVP now! All proceeds from this event benefit the WVHS Medical Fund which allows medical care for homeless and injured animals
LOCATION:Virtual
UID:e.289.7779
SEQUENCE:3
DTSTAMP:20260424T141435Z
URL:https://business.wenatchee.org/events/details/wvhs-holiday-wreath-auction-2020-7779
END:VEVENT

END:VCALENDAR
