BEGIN:VCALENDAR
VERSION:2.0
PRODID:-//ChamberMaster//Event Calendar 2.0//EN
METHOD:PUBLISH
X-PUBLISHED-TTL:P3D
REFRESH-INTERVAL:P3D
CALSCALE:GREGORIAN
BEGIN:VEVENT
DTSTART:20210320T150000Z
DTEND:20210322T000000Z
X-MICROSOFT-CDO-ALLDAYEVENT:FALSE
SUMMARY:WVDRC Basic Mediation Training - Spring 2021
DESCRIPTION:REGISTRATION CLOSES at noon on March 1. FOR COMPLETION of TRAINING\, you MUST ATTEND the ENTIRE session! Course will be offered VIRTUALLY. Printed materials will be mailed. #1: MARCH 5-7 and #2: MARCH 20-21 Daily 8 a.m.-5 p.m. The Wenatchee Valley Dispute Resolution Center (WVDRC) is offering a Resolution Washington and Washington Mediation Association-approved 40-hour Basic Mediation Training (BMT) course in Spring 2021 in collaboration with the Dispute Resolution Center of Tri-Cities. The WVDRC offers this course for anyone who:   Is interested in becoming a certified volunteer mediator with the WVDRC.   Wants to learn more effective ways to deal with conflict at work\, at home\, or in the classroom.   Is in the legal\, counseling\, human resources\, or education field and needs relevant professional training. The BMT course teaches the process of mediation\, communication skills\, and conflict dynamics to promote peaceful and constructive approaches to conflict and its resolution\, whether in the workplace\, home\, or in our community. Trainees who have completed the BMT course are eligible to begin a mediation practicum to become a certified volunteer mediator with the WVDRC. Training is approved for 40 Clock Hours for educators. CLE & ethics for attorneys pending.
X-ALT-DESC;FMTTYPE=text/html:REGISTRATION CLOSES at noon on March 1. FOR COMPLETION of TRAINING\, you MUST ATTEND the ENTIRE session! Course will be offered VIRTUALLY. Printed materials will be mailed. #1: MARCH 5-7 and #2: MARCH 20-21 Daily 8 a.m.-5 p.m. The Wenatchee Valley Dispute Resolution Center (WVDRC) is offering a Resolution Washington and Washington Mediation Association-approved 40-hour Basic Mediation Training (BMT) course in Spring 2021 in collaboration with the Dispute Resolution Center of Tri-Cities. The WVDRC offers this course for anyone who: &bull\; Is interested in becoming a certified volunteer mediator with the WVDRC. &bull\; Wants to learn more effective ways to deal with conflict at work\, at home\, or in the classroom. &bull\; Is in the legal\, counseling\, human resources\, or education field and needs relevant professional training. The BMT course teaches the process of mediation\, communication skills\, and conflict dynamics to promote peaceful and constructive approaches to conflict and its resolution\, whether in the workplace\, home\, or in our community. Trainees who have completed the BMT course are eligible to begin a mediation practicum to become a certified volunteer mediator with the WVDRC. Training is approved for 40 Clock Hours for educators. CLE &amp\; ethics for attorneys pending.
LOCATION:Online via Zoom
UID:e.289.7786
SEQUENCE:3
DTSTAMP:20260422T201828Z
URL:https://business.wenatchee.org/events/details/wvdrc-basic-mediation-training-spring-2021-03-20-2021-7786
END:VEVENT

END:VCALENDAR
