BEGIN:VCALENDAR
VERSION:2.0
PRODID:-//ChamberMaster//Event Calendar 2.0//EN
METHOD:PUBLISH
X-PUBLISHED-TTL:P3D
REFRESH-INTERVAL:P3D
CALSCALE:GREGORIAN
BEGIN:VEVENT
DTSTART:20210223T160000Z
DTEND:20210223T163000Z
X-MICROSOFT-CDO-ALLDAYEVENT:FALSE
SUMMARY:WVCC Legislative Update
DESCRIPTION:Have you been wondering what is going on in the Washington State Legislature this session? Interested in hearing about the latest updates to unemployment insurance taxes\, business relief\, property taxes and more? Join the WVCC's lobbyist Bruce Beckett for a legislative update. This event is free\, but exclusive to current WVCC members\, please be sure to register to get the Zoom Link at www.wenatchee.org/events/calendar.
X-ALT-DESC;FMTTYPE=text/html:<span style="font-size:18px\;"><span style="font-family:calibri light\,sans-serif\;">Have you been wondering what is going on in the Washington State Legislature this session? Interested in hearing about the latest updates to unemployment insurance taxes\, business relief\, property taxes and more? Join the WVCC&rsquo\;s lobbyist Bruce Beckett for a legislative update. This event is free\, but exclusive to current WVCC members\, please be sure to register to get the Zoom Link at </span><a href="http://www.wenatchee.org/"><span style="font-family:calibri light\,sans-serif\;">www.wenatchee.org</span></a><span style="font-family:calibri light\,sans-serif\;">/events/calendar.</span></span>
LOCATION:ZOOM
UID:e.289.7821
SEQUENCE:3
DTSTAMP:20260424T085102Z
URL:https://business.wenatchee.org/events/details/wvcc-legislative-update-7821
END:VEVENT

END:VCALENDAR
