BEGIN:VCALENDAR
VERSION:2.0
PRODID:-//ChamberMaster//Event Calendar 2.0//EN
METHOD:PUBLISH
X-PUBLISHED-TTL:P3D
REFRESH-INTERVAL:P3D
CALSCALE:GREGORIAN
BEGIN:VEVENT
DTSTART:20191029T010000Z
DTEND:20191029T014500Z
X-MICROSOFT-CDO-ALLDAYEVENT:FALSE
SUMMARY:WSD Community Conversations: Future School Facilities
DESCRIPTION:Wenatchee School Board of Directors Community Conversations: Future School Facilities Help us plan for the future of learning in the Wenatchee School District during a discussion about the current and projected needs of our school facilities. About the WSD School Board Community Conversation Series Beginning with the 2019-20 school year\, the school board and administration committed to holding a Community Conversations series to help the Board listen to and understand the underlying values\, concerns\, and priorities of district residents\, school families\, students\, and staff. The Board and administration will use feedback and data collected during these conversations to inform future planning efforts and policy.
X-ALT-DESC;FMTTYPE=text/html:Wenatchee School Board of Directors Community Conversations: Future School Facilities Help us plan for the future of learning in the Wenatchee School District during a discussion about the current and projected needs of our school facilities. About the WSD School Board Community Conversation Series Beginning with the 2019-20 school year\, the school board and administration committed to holding a Community Conversations series to help the Board listen to and understand the underlying values\, concerns\, and priorities of district residents\, school families\, students\, and staff. The Board and administration will use feedback and data collected during these conversations to inform future planning efforts and policy.
LOCATION:Pybus Public Market
UID:e.289.7476
SEQUENCE:3
DTSTAMP:20260425T120055Z
URL:https://business.wenatchee.org/events/details/wsd-community-conversations-future-school-facilities-7476
END:VEVENT

END:VCALENDAR
