BEGIN:VCALENDAR
VERSION:2.0
PRODID:-//ChamberMaster//Event Calendar 2.0//EN
METHOD:PUBLISH
X-PUBLISHED-TTL:P3D
REFRESH-INTERVAL:P3D
CALSCALE:GREGORIAN
BEGIN:VEVENT
DTSTART:20191010T020000Z
DTEND:20191010T024500Z
X-MICROSOFT-CDO-ALLDAYEVENT:FALSE
SUMMARY:WSD Community Conversation: Future School Facilities
DESCRIPTION:Wenatchee School Board of Directors Community Conversations: Future School Facilities Help us plan for the future of learning in the Wenatchee School District during a discussion about the current and projected needs of our school facilities. About the WSD School Board Community Conversation Series Beginning with the 2019-20 school year\, the school board and administration committed to holding a Community Conversations series to help the Board listen to and understand the underlying values\, concerns\, and priorities of district residents\, school families\, students\, and staff. The Board and administration will use feedback and data collected during these conversations to inform future planning efforts and policy.
X-ALT-DESC;FMTTYPE=text/html:Wenatchee School Board of Directors Community Conversations: Future School Facilities Help us plan for the future of learning in the Wenatchee School District during a discussion about the current and projected needs of our school facilities. About the WSD School Board Community Conversation Series Beginning with the 2019-20 school year\, the school board and administration committed to holding a Community Conversations series to help the Board listen to and understand the underlying values\, concerns\, and priorities of district residents\, school families\, students\, and staff. The Board and administration will use feedback and data collected during these conversations to inform future planning efforts and policy.
LOCATION:Wenatchee High School
UID:e.289.7475
SEQUENCE:3
DTSTAMP:20260425T120023Z
URL:https://business.wenatchee.org/events/details/wsd-community-conversation-future-school-facilities-7475
END:VEVENT

END:VCALENDAR
