BEGIN:VCALENDAR
VERSION:2.0
PRODID:-//ChamberMaster//Event Calendar 2.0//EN
METHOD:PUBLISH
X-PUBLISHED-TTL:P3D
REFRESH-INTERVAL:P3D
CALSCALE:GREGORIAN
BEGIN:VEVENT
DTSTART:20190821T230000Z
DTEND:20190822T030000Z
X-MICROSOFT-CDO-ALLDAYEVENT:FALSE
SUMMARY:Working Women's Wednesday
DESCRIPTION:Come celebrate\, network with\, and support women entrepreneurs in the Wenatchee Valley! During our networking event\, we are serving $5 cocktails and charcuterie plates are 1/2 off. If you are an entrepreneur and interested in setting up shop\, contact Melisa Lovely @ 509-289-9194 or drop a line @ The Alchemist's Phrontistery on facebook.
X-ALT-DESC;FMTTYPE=text/html:Come celebrate\, network with\, and support women entrepreneurs in the Wenatchee Valley! During our networking event\, we are serving $5 cocktails and charcuterie plates are 1/2 off. If you are an entrepreneur and interested in setting up shop\, contact Melisa Lovely @ 509-289-9194 or drop a line @ The Alchemist&#39\;s Phrontistery on facebook.
LOCATION:749 Riverside Drive\, Wenatchee\, WA 98802
UID:e.289.7414
SEQUENCE:3
DTSTAMP:20260425T145921Z
URL:https://business.wenatchee.org/events/details/working-women-s-wednesday-7414
END:VEVENT

END:VCALENDAR
