BEGIN:VCALENDAR
VERSION:2.0
PRODID:-//ChamberMaster//Event Calendar 2.0//EN
METHOD:PUBLISH
X-PUBLISHED-TTL:P3D
REFRESH-INTERVAL:P3D
CALSCALE:GREGORIAN
BEGIN:VEVENT
DTSTART:20190522T160000Z
DTEND:20190522T230000Z
X-MICROSOFT-CDO-ALLDAYEVENT:FALSE
SUMMARY:Workforce Collaboration Summit
DESCRIPTION:Join local organizations for an engaging day of learning about partner services\, networking\, and other valuable resources. You will make new connections and foster existing relationships to better assist your clients. Innovative tools and other resources will be shared to help you understand all the services available in our region and who provides them. Assist workers\, job seekers\, and businesses to access wide-ranging workforce preparation programs and services.\n\nRegistration Fee: $25.00 per person and includes breakfast and lunch - please email amandab@skillsource.org if you need assistance with the registration fee.\n\n \n\nPartners: SkillSource\, WorkSource Wenatchee\, Wenatchee Valley College\, OIC of Washington\, Molina\, DSHS\, Catholic Charities\, DVR\, Community Action Council\, NW Laborers Union\, Wenatchee Valley Chamber of Commerce
X-ALT-DESC;FMTTYPE=text/html:<p style="margin:0in\;margin-bottom:.0001pt"><span style="font-family:&quot\;Arial&quot\;\,sans-serif\;\ncolor:black">Join local organizations for an engaging day of learning about partner services\, networking\, and other valuable resources. You will make new connections and foster existing relationships to better assist your clients. Innovative tools and other resources will be shared to help you understand all the services available in our region and who provides them. Assist workers\, job seekers\, and businesses to access wide-ranging workforce preparation programs and services.</span><o:p></o:p></p>\n\n<p style="margin:0in\;margin-bottom:.0001pt"><span style="font-family:&quot\;Arial&quot\;\,sans-serif\;\ncolor:black">Registration Fee:&nbsp\;$25.00 per person and includes breakfast and lunch - please email <a href="mailto:amandab@skillsource.org" style="text-decoration-line:none">amandab@skillsource.org</a> if you need assistance with the registration fee.</span><br />\n&nbsp\;</p>\n\n<p style="margin:0in\;margin-bottom:.0001pt"><i><span style="font-family:&quot\;Arial&quot\;\,sans-serif\;\ncolor:black"><strong>Partners</strong>: SkillSource\, WorkSource Wenatchee\, Wenatchee Valley College\, OIC of Washington\, Molina\, DSHS\, Catholic Charities\, DVR\, Community Action Council\, NW Laborers Union\, Wenatchee Valley Chamber of Commerce</span></i><o:p></o:p></p>\n\n<p style="margin:0in\;margin-bottom:.0001pt"><o:p></o:p><br />\n&nbsp\;</p>\n
LOCATION:Confluence Technology Center
UID:e.289.7228
SEQUENCE:3
DTSTAMP:20260425T195515Z
URL:https://business.wenatchee.org/events/details/workforce-collaboration-summit-7228
END:VEVENT

END:VCALENDAR
