BEGIN:VCALENDAR
VERSION:2.0
PRODID:-//ChamberMaster//Event Calendar 2.0//EN
METHOD:PUBLISH
X-PUBLISHED-TTL:P3D
REFRESH-INTERVAL:P3D
CALSCALE:GREGORIAN
BEGIN:VEVENT
DTSTART:20190810T190000Z
DTEND:20190810T220000Z
X-MICROSOFT-CDO-ALLDAYEVENT:FALSE
SUMMARY:Wine Release: 2018 Riesling @ Ryan Patrick Wines
DESCRIPTION:What pairs well with a hot August day? A scrumptious wine float using Ryan Patrick?s new release Riesling\, and Whislepunk Ice cream Co.?s Ginger-Pear Sorbet! Imaging a scoop of this sweet treat\, with a pour of delicious Riesling on top!  Included with Tasting Fees\, and Wine Club Tastings. Club members also get an extra sweet treat with an extra 5% off their wine orders.
X-ALT-DESC;FMTTYPE=text/html:<span style="color:black"><span style="font-family:century gothic\,sans-serif">What pairs well with a hot August day? A scrumptious wine float using Ryan Patrick?s new release Riesling\, and Whislepunk Ice cream Co.?s Ginger-Pear Sorbet! Imaging a scoop of this sweet treat\, with a pour of delicious Riesling on top!&nbsp\; Included with Tasting Fees\, and Wine Club Tastings. Club members also get an extra sweet treat with an extra 5% off their wine orders.&nbsp\;</span></span>
LOCATION:707 US-2\, Unit D\, Leavenworth\, Wa\, 98826
UID:e.289.7382
SEQUENCE:3
DTSTAMP:20260425T145825Z
URL:https://business.wenatchee.org/events/details/wine-release-2018-riesling-ryan-patrick-wines-7382
END:VEVENT

END:VCALENDAR
