BEGIN:VCALENDAR
VERSION:2.0
PRODID:-//ChamberMaster//Event Calendar 2.0//EN
METHOD:PUBLISH
X-PUBLISHED-TTL:P3D
REFRESH-INTERVAL:P3D
CALSCALE:GREGORIAN
BEGIN:VEVENT
DTSTART:20190712T010000Z
DTEND:20190712T023000Z
X-MICROSOFT-CDO-ALLDAYEVENT:FALSE
SUMMARY:Wine 101 Class
DESCRIPTION:Thursday\, July 11th | 6 pm - 7:30 pm\n\nExpand your wine knowledge with us at our Wine 101 Class. Madeline Nelson\, Director of Cascade Valley Wine Country\, will host this educational session. The class includes a wine flight of 5 wines and small bites from Leavenworth Cheesemonger.
X-ALT-DESC;FMTTYPE=text/html:<strong><span style="font-family:century gothic\,sans-serif"><span style="font-size:9pt">Thursday\, July 11th | 6 pm - 7:30 pm</span></span></strong><br />\n<span style="font-family:century gothic\,sans-serif"><span style="font-size:9pt">Expand your wine knowledge with us at our Wine 101 Class. Madeline Nelson\, Director of Cascade Valley Wine Country\, will host this educational session. The class includes a wine flight of 5 wines and small bites from Leavenworth Cheesemonger.&nbsp\;</span></span>
LOCATION:707 Unit D\, US-2 Leavenworth Wa\, 98826
UID:e.289.7360
SEQUENCE:3
DTSTAMP:20260425T162733Z
URL:https://business.wenatchee.org/events/details/wine-101-class-7360
END:VEVENT

END:VCALENDAR
