BEGIN:VCALENDAR
VERSION:2.0
PRODID:-//ChamberMaster//Event Calendar 2.0//EN
METHOD:PUBLISH
X-PUBLISHED-TTL:P3D
REFRESH-INTERVAL:P3D
CALSCALE:GREGORIAN
BEGIN:VEVENT
DTSTART:20190601T180000Z
DTEND:20190601T230000Z
X-MICROSOFT-CDO-ALLDAYEVENT:FALSE
SUMMARY:Wheel Line Cider- Grand Opening
DESCRIPTION:Join us June 1st as we celebrate the Grand Opening of Wheel Line Cider! We will be debuting our newly landscaped tasting grounds\, our mobile airstream bar equipped with 4 taps\, 2 new barrel aged ciders to join our line-up\, live music by Dynamite Supreme\, activities for kids\, bocci ball\, and more! Grab your friends/family/kids/fur babies (on a leash) bring a picnic\, and enjoy live music and cider in the country!
X-ALT-DESC;FMTTYPE=text/html:Join us June 1st as we celebrate the Grand Opening of Wheel Line Cider! We will be debuting our newly landscaped tasting grounds\, our mobile airstream bar equipped with 4 taps\, 2 new barrel aged ciders to join our line-up\, live music by Dynamite Supreme\, activities for kids\, bocci ball\, and more! Grab your friends/family/kids/fur babies (on a leash) bring a picnic\, and enjoy live music and cider in the country!
LOCATION:Wheel Line Cider- 15730 Upper Badger Pocket Road. Ellensburg WA 98926
UID:e.289.7313
SEQUENCE:3
DTSTAMP:20260425T181123Z
URL:https://business.wenatchee.org/events/details/wheel-line-cider-grand-opening-7313
END:VEVENT

END:VCALENDAR
