BEGIN:VCALENDAR
VERSION:2.0
PRODID:-//ChamberMaster//Event Calendar 2.0//EN
METHOD:PUBLISH
X-PUBLISHED-TTL:P3D
REFRESH-INTERVAL:P3D
CALSCALE:GREGORIAN
BEGIN:VEVENT
DTSTART:20200313T003000Z
DTEND:20200313T020000Z
X-MICROSOFT-CDO-ALLDAYEVENT:FALSE
SUMMARY:Whats up Down Under
DESCRIPTION:Come discover what's new and exciting in the lands Down Under at this fascinating presentation by the leading specialist in travel to Australia and New Zealand. Down Under Answers has been creating extraordinary journeys for over 27 years. They will share everything they know about the unique sights and culture   from Australia's majestic landscapes\, pristine beaches\, rich heritage and remarkable flora and fauna\, to New Zealand's unspoiled wilderness\, deep fiords\, steaming volcanoes and misty mountains.
X-ALT-DESC;FMTTYPE=text/html:Come discover what&rsquo\;s new and exciting in the lands Down Under at this fascinating presentation by the leading specialist in travel to Australia and New Zealand. Down Under Answers has been creating extraordinary journeys for over 27 years. They will share everything they know about the unique sights and culture &ndash\; from Australia&rsquo\;s majestic landscapes\, pristine beaches\, rich heritage and remarkable flora and fauna\, to New Zealand&rsquo\;s unspoiled wilderness\, deep fiords\, steaming volcanoes and misty mountains.
LOCATION:AAA Wenatchee
UID:e.289.7701
SEQUENCE:3
DTSTAMP:20260425T033116Z
URL:https://business.wenatchee.org/events/details/whats-up-down-under-7701
END:VEVENT

END:VCALENDAR
