BEGIN:VCALENDAR
VERSION:2.0
PRODID:-//ChamberMaster//Event Calendar 2.0//EN
METHOD:PUBLISH
X-PUBLISHED-TTL:P3D
REFRESH-INTERVAL:P3D
CALSCALE:GREGORIAN
BEGIN:VEVENT
DTSTART:20190928T170000Z
DTEND:20190928T220000Z
X-MICROSOFT-CDO-ALLDAYEVENT:FALSE
SUMMARY:What will you be 5 K
DESCRIPTION:Join SAGE for our 2nd annual What Will You Be 5 K.  This family friendly event will feature local community resources\, first responders\, raffle and more.
X-ALT-DESC;FMTTYPE=text/html:Join SAGE for our 2nd annual What Will You Be 5 K.  This family friendly event will feature local community resources\, first responders\, raffle and more. 
LOCATION:Pybus Market
UID:e.289.7381
SEQUENCE:3
DTSTAMP:20260425T134201Z
URL:https://business.wenatchee.org/events/details/what-will-you-be-5-k-7381
END:VEVENT

END:VCALENDAR
