BEGIN:VCALENDAR
VERSION:2.0
PRODID:-//ChamberMaster//Event Calendar 2.0//EN
METHOD:PUBLISH
X-PUBLISHED-TTL:P3D
REFRESH-INTERVAL:P3D
CALSCALE:GREGORIAN
BEGIN:VEVENT
DTSTART:20200619T190000Z
DTEND:20200619T200000Z
X-MICROSOFT-CDO-ALLDAYEVENT:FALSE
SUMMARY:What's For Lunch? - ZOOM
DESCRIPTION:Bring your lunch and join us virtually! Attorney\, Stephanie Boehl\, with Jeffers\, Danielson\, Sonn and Aylward Law will cover employment law\, CARES Act and updates regarding COVID-19.\n\n\n\nThis event is free\, please register to receive the conference ID information.
X-ALT-DESC;FMTTYPE=text/html:Bring your lunch and join us virtually! Attorney\, Stephanie Boehl\, with Jeffers\, Danielson\, Sonn and Aylward Law will cover employment law\, CARES Act and updates regarding COVID-19.<br />\n<br />\nThis event is free\, p<span style="font: 400 13px/1.6 sans-serif\, Arial\, Verdana\, &quot\;Trebuchet MS&quot\;\; text-align: left\; color: rgb(51\, 51\, 51)\; text-transform: none\; text-indent: 0px\; letter-spacing: normal\; text-decoration: none\; word-spacing: 0px\; float: none\; display: inline !important\; white-space: normal\; cursor: text\; orphans: 2\; font-size-adjust: none\; font-stretch: normal\; background-color: rgb(255\, 255\, 255)\; -webkit-text-stroke-width: 0px\;">lease register </span>to receive the conference ID information.
LOCATION:Zoom conference
UID:e.289.7716
SEQUENCE:3
DTSTAMP:20260424T222919Z
URL:https://business.wenatchee.org/events/details/what-s-for-lunch-zoom-7716
END:VEVENT

END:VCALENDAR
