BEGIN:VCALENDAR
VERSION:2.0
PRODID:-//ChamberMaster//Event Calendar 2.0//EN
METHOD:PUBLISH
X-PUBLISHED-TTL:P3D
REFRESH-INTERVAL:P3D
CALSCALE:GREGORIAN
BEGIN:VEVENT
DTSTART:20201021T190000Z
DTEND:20201021T200000Z
X-MICROSOFT-CDO-ALLDAYEVENT:FALSE
SUMMARY:What's For Lunch? with the Wenatchee Valley Dispute Resolution Center
DESCRIPTION:Join us on Wednesday the 21st for our monthly business and professional development series\, What's for Lunch\, hosted by the Wenatchee Valley Dispute Resolution Center. Discover and practice healthy communication skills with Jennifer Talbot of WVDRC. Presentation will include an overview of listening and conflict characteristics based on mediation concepts as well as attendee participation and Q&A.
X-ALT-DESC;FMTTYPE=text/html:Join us on Wednesday the 21st for our monthly business and professional development series\, What&#39\;s for Lunch\, hosted by the Wenatchee Valley Dispute Resolution Center. Discover and practice healthy communication skills with Jennifer Talbot of WVDRC. Presentation will include an overview of listening and conflict characteristics based on mediation concepts as well as attendee participation and Q&amp\;A.
LOCATION:Zoom
UID:e.289.7762
SEQUENCE:3
DTSTAMP:20260424T155055Z
URL:https://business.wenatchee.org/events/details/what-s-for-lunch-with-the-wenatchee-valley-dispute-resolution-center-7762
END:VEVENT

END:VCALENDAR
