BEGIN:VCALENDAR
VERSION:2.0
PRODID:-//ChamberMaster//Event Calendar 2.0//EN
METHOD:PUBLISH
X-PUBLISHED-TTL:P3D
REFRESH-INTERVAL:P3D
CALSCALE:GREGORIAN
BEGIN:VEVENT
DTSTART:20200424T170000Z
DTEND:20200424T183000Z
X-MICROSOFT-CDO-ALLDAYEVENT:FALSE
SUMMARY:What's For Lunch? - Webinar with Cheri Dudek-Kuhn
DESCRIPTION:Cheri will provide a handful of simple tools and teach you how to implement them right away in your businesses. After an overview of the Entrepreneurial Operating System (EOS )\, you will take a deeper dive into the following:\n\n\n	Scorecard-the handful of high level numbers you should be tracking\, including what you might do short-term by creating a 'wartime scorecard'. \n	Discovering the power of an Accountability Chart\, and the concept of a reverse or alternative Accountability Chart to keep in your emergency toolbox should you suffer long term revenue declines. \n	Elevating your meetings with our world famous Level-10 Meeting Agenda and our issues-solving process called IDS (Identify. Discuss. Solve). Improving your ability to prioritize and solve issues is critical to surviving and thriving in business. \n\n\nA workbook PDF is included and all of the tools are free and available online. We should have plenty of time to answer questions and share insights. \n\n \n\nThis program is FREE\, please RSVP online at Wenatchee.org or email info@wenatchee.org.
X-ALT-DESC;FMTTYPE=text/html:<p><i>Cheri will provide a handful of simple tools and teach you how to implement them right away in your&nbsp\;businesses. After an overview of the Entrepreneurial Operating System (EOS&reg\;)\, you will take a deeper dive into the following:</i></p>\n\n<ul type="disc">\n	<li style="color: rgb(0\, 0\, 0)\; font-family:\; font-size: 11pt\; font-style: normal\; font-weight: 400\;"><i><span style="mso-fareast-font-family:&#10\;     &quot\;Times New Roman&quot\;">Scorecard-the handful of high level numbers you should be tracking\, including what you might do short-term by creating a &#39\;wartime scorecard&#39\;.&nbsp\;</span></i></li>\n	<li style="color: rgb(0\, 0\, 0)\; font-family:\; font-size: 11pt\; font-style: normal\; font-weight: 400\;"><i><span style="mso-fareast-font-family:&#10\;     &quot\;Times New Roman&quot\;">Discovering the power of an Accountability Chart\, and the concept of a reverse or alternative&nbsp\;Accountability Chart to keep in your emergency toolbox should you suffer long term&nbsp\;revenue declines.&nbsp\;</span></i></li>\n	<li style="color: rgb(0\, 0\, 0)\; font-family:\; font-size: 11pt\; font-style: normal\; font-weight: 400\;"><i><span style="mso-fareast-font-family:&#10\;     &quot\;Times New Roman&quot\;">Elevating your meetings with our world famous Level-10 Meeting Agenda and our issues-solving process called IDS (Identify. Discuss. Solve). Improving your ability to prioritize&nbsp\;and solve issues is critical to surviving and thriving in business.&nbsp\;</span></i></li>\n</ul>\n\n<p><i>A workbook PDF is included and all of the tools are free and available online. We should have plenty of time to answer questions and share insights.&nbsp\;</i></p>\n\n<p><i>&nbsp\;</i></p>\n\n<p><i>This program is FREE\, please RSVP online at Wenatchee.org or email <a>info@wenatchee.org</a>.</i></p>\n
LOCATION:Zoom Webinar
UID:e.289.7709
SEQUENCE:3
DTSTAMP:20260425T014949Z
URL:https://business.wenatchee.org/events/details/what-s-for-lunch-webinar-with-cheri-dudek-kuhn-7709
END:VEVENT

END:VCALENDAR
