BEGIN:VCALENDAR
VERSION:2.0
PRODID:-//ChamberMaster//Event Calendar 2.0//EN
METHOD:PUBLISH
X-PUBLISHED-TTL:P3D
REFRESH-INTERVAL:P3D
CALSCALE:GREGORIAN
BEGIN:VEVENT
DTSTART:20190628T190000Z
DTEND:20190628T200000Z
X-MICROSOFT-CDO-ALLDAYEVENT:FALSE
SUMMARY:What's for Lunch - Successful Hiring
DESCRIPTION:At this What's for Lunch program\, you'll learn best practices for successful hiring and onboarding new team members. \n\nCheri Dudek-Kuhn is the CEO of Orchard Corset and a professional EOS Implementer.  Her desire to share what she dubs as the Holy Grail of running a business has led her to work with other business owners/leaders and help them get more out of their businesses.
X-ALT-DESC;FMTTYPE=text/html:At this What&#39\;s for Lunch program\, you&#39\;ll learn best practices for successful hiring and onboarding new team members.&nbsp\;<br />\nCheri Dudek-Kuhn is the CEO of Orchard Corset and a professional EOS Implementer.&nbsp\; Her desire to share what she dubs as the Holy Grail of running a business has led her to work with other business owners/leaders and help them get more out of their businesses.
LOCATION:Chamber Conference Room\, 137 N. Wenatchee Ave.
UID:e.289.7234
SEQUENCE:3
DTSTAMP:20260425T182706Z
URL:https://business.wenatchee.org/events/details/what-s-for-lunch-successful-hiring-7234
END:VEVENT

END:VCALENDAR
