BEGIN:VCALENDAR
VERSION:2.0
PRODID:-//ChamberMaster//Event Calendar 2.0//EN
METHOD:PUBLISH
X-PUBLISHED-TTL:P3D
REFRESH-INTERVAL:P3D
CALSCALE:GREGORIAN
BEGIN:VEVENT
DTSTART:20200916T190000Z
DTEND:20200916T200000Z
X-MICROSOFT-CDO-ALLDAYEVENT:FALSE
SUMMARY:What's For Lunch? - Smart & Fun Marketing
DESCRIPTION:Learn the power of proactive marketing and messaging from Jackie and Mike Endsley of Endsley & Company. During their presentation\, they'll discuss the importance of developing a planning process for your marketing plan. This process can be adapted to businesses of any size.\n\n\n\nThis event is FREE\, please register to receive the Zoom information to join.
X-ALT-DESC;FMTTYPE=text/html:<strong><em>Learn the power of proactive marketing and messaging from Jackie and Mike Endsley of Endsley &amp\; Company. During their presentation\, they&#39\;ll discuss the importance of developing a planning process for your marketing plan. This process can be adapted to businesses of any size.<br />\n<br />\nThis event is FREE\, please register to receive the Zoom information to join.</em></strong>
LOCATION:Zoom Event
UID:e.289.7742
SEQUENCE:3
DTSTAMP:20260424T172847Z
URL:https://business.wenatchee.org/events/details/what-s-for-lunch-smart-fun-marketing-7742
END:VEVENT

END:VCALENDAR
