BEGIN:VCALENDAR
VERSION:2.0
PRODID:-//ChamberMaster//Event Calendar 2.0//EN
METHOD:PUBLISH
X-PUBLISHED-TTL:P3D
REFRESH-INTERVAL:P3D
CALSCALE:GREGORIAN
BEGIN:VEVENT
DTSTART:20201118T200000Z
DTEND:20201118T210000Z
X-MICROSOFT-CDO-ALLDAYEVENT:FALSE
SUMMARY:What's For Lunch - Retail Safety
DESCRIPTION:Detective Kirk Drolet at the Wenatchee Police Department\, Chief Rick Johnson at the East Wenatchee Police department will provide information on recognizing fraud and downtown safety as we move into the holiday season. There has been an increase in counterfeit bills\, shoplifting and downtown safety issues that Detective Drolet and Chief Johnson will address and answer any questions.
X-ALT-DESC;FMTTYPE=text/html:Detective Kirk Drolet at the Wenatchee Police Department\, Chief Rick Johnson at the East Wenatchee Police department will provide information on recognizing fraud and downtown safety as we move into the holiday season. There has been an increase in counterfeit bills\, shoplifting and downtown safety issues that Detective Drolet and Chief Johnson will address and answer any questions.&nbsp\;
LOCATION:Register at wenatchee.org/events/calendar to receive zoom link
UID:e.289.7772
SEQUENCE:3
DTSTAMP:20260424T140733Z
URL:https://business.wenatchee.org/events/details/what-s-for-lunch-retail-safety-7772
END:VEVENT

END:VCALENDAR
