BEGIN:VCALENDAR
VERSION:2.0
PRODID:-//ChamberMaster//Event Calendar 2.0//EN
METHOD:PUBLISH
X-PUBLISHED-TTL:P3D
REFRESH-INTERVAL:P3D
CALSCALE:GREGORIAN
BEGIN:VEVENT
DTSTART:20190222T200000Z
DTEND:20190222T210000Z
X-MICROSOFT-CDO-ALLDAYEVENT:FALSE
SUMMARY:What's for Lunch - Opportunity Zones
DESCRIPTION:Opportunity Zones have been designated in the Wenatchee Valley to offer federal tax breaks to spark development and job creation.  Melissa LaFayette\, Assistant Director of the National Development Council\, and Lindsey Weidenbach with JDSA Law\, will discuss what an Opportunity Zone is and will cover the most recent rules from the IRS. Come learn about this program and how these zones will be able to defer or eliminate federal taxes on capital gains.
X-ALT-DESC;FMTTYPE=text/html:<span style="font-size:12.0pt\;">Opportunity Zones have been designated in the Wenatchee Valley to offer federal tax breaks to spark development and job creation.&nbsp\; <strong>Melissa LaFayette</strong>\, Assistant Director of the National Development Council\, and <strong>Lindsey Weidenbac</strong>h with JDSA Law\, will discuss what an Opportunity Zone is and will cover the most recent rules from the IRS. Come learn about this program and how these zones will be able to defer or eliminate federal taxes on capital gains.</span>
LOCATION:Wenatchee Convention Center
UID:e.289.7105
SEQUENCE:3
DTSTAMP:20260426T010137Z
URL:https://business.wenatchee.org/events/details/what-s-for-lunch-opportunity-zones-7105
END:VEVENT

END:VCALENDAR
