BEGIN:VCALENDAR
VERSION:2.0
PRODID:-//ChamberMaster//Event Calendar 2.0//EN
METHOD:PUBLISH
X-PUBLISHED-TTL:P3D
REFRESH-INTERVAL:P3D
CALSCALE:GREGORIAN
BEGIN:VEVENT
DTSTART:20181207T200000Z
DTEND:20181207T210000Z
X-MICROSOFT-CDO-ALLDAYEVENT:FALSE
SUMMARY:What's for Lunch -Membership Orientation
DESCRIPTION:Whether you are a new member\, interested in becoming a member or have been a in the fold for awhile\, this is a great highlight into all things Membership. Lunch is on us so we hope we'll see you there.  Please RSVP so we have enough food for you!
X-ALT-DESC;FMTTYPE=text/html:Whether you are a new member\, interested in becoming a member or have been a in the fold for awhile\, this is a great highlight into all things Membership. Lunch is on us so we hope we&#39\;ll see you there.&nbsp\;&nbsp\;Please RSVP so we have enough food for you!&nbsp\; &nbsp\;&nbsp\;&nbsp\;&nbsp\;&nbsp\;&nbsp\;
LOCATION:Wenatchee Valley Chamber of Commerce \, 137 N Wenatchee Avenue
UID:e.289.6972
SEQUENCE:3
DTSTAMP:20260426T044446Z
URL:https://business.wenatchee.org/events/details/what-s-for-lunch-membership-orientation-6972
END:VEVENT

END:VCALENDAR
