BEGIN:VCALENDAR
VERSION:2.0
PRODID:-//ChamberMaster//Event Calendar 2.0//EN
METHOD:PUBLISH
X-PUBLISHED-TTL:P3D
REFRESH-INTERVAL:P3D
CALSCALE:GREGORIAN
BEGIN:VEVENT
DTSTART:20190524T190000Z
DTEND:20190524T200000Z
X-MICROSOFT-CDO-ALLDAYEVENT:FALSE
SUMMARY:What's for Lunch - Manage Priorities
DESCRIPTION:Come and join us for lunch and learn some tips and methods to determine and manage your priorities.  You'll learn to manage your priorities and NOT your time.\n\nCheri Dudek-Kuhn is the CEO of Orchard Corset and a Professional EOS Implementer.  Her desire to share what she dubs as the Holy Grail of running a business has led her to work with other business owners/leaders and help them get more out of their businesses.
X-ALT-DESC;FMTTYPE=text/html:Come and join us for lunch and learn some tips and methods to determine and manage your priorities.&nbsp\; You&#39\;ll learn to manage your priorities and NOT your time.<br />\nCheri Dudek-Kuhn is the CEO of Orchard Corset and a Professional EOS Implementer.&nbsp\; Her desire to share what she dubs as the Holy Grail of running a business has led her to work with other business owners/leaders and help them get more out of their businesses.
LOCATION:Wenatchee Valley Chamber of Commerce 137 N Wenatchee Ave\, Suite 101 Wenatchee\, WA 98801
UID:e.289.7233
SEQUENCE:3
DTSTAMP:20260425T200606Z
URL:https://business.wenatchee.org/events/details/what-s-for-lunch-manage-priorities-7233
END:VEVENT

END:VCALENDAR
