BEGIN:VCALENDAR
VERSION:2.0
PRODID:-//ChamberMaster//Event Calendar 2.0//EN
METHOD:PUBLISH
X-PUBLISHED-TTL:P3D
REFRESH-INTERVAL:P3D
CALSCALE:GREGORIAN
BEGIN:VEVENT
DTSTART:20220217T200000Z
DTEND:20220217T210000Z
X-MICROSOFT-CDO-ALLDAYEVENT:FALSE
SUMMARY:What's For Lunch - Human Resources
DESCRIPTION:Join us for our What's For Lunch program with Apple Valley Human Resources! We'll be joined by AVHRA President\, Emily Vincent and Past-President\, Staci Sleigh-Layman\, to learn about employee retention\, best hiring practices\, recruitment & training. This event is FREE\, please register to receive the Zoom link.
X-ALT-DESC;FMTTYPE=text/html:<br />\n<span style="font-size:14px\;"><span style="font-family:arial\;">Join us for our What&rsquo\;s For Lunch program with Apple Valley Human Resources! We&#39\;ll be joined by AVHRA President\, Emily Vincent and Past-President\, Staci Sleigh-Layman\, to learn about employee retention\, best hiring practices\, recruitment &amp\; training. This event is FREE\, please register to receive the Zoom link.</span></span>
LOCATION:Online Event
UID:e.289.7940
SEQUENCE:3
DTSTAMP:20260424T215550Z
URL:https://business.wenatchee.org/events/details/what-s-for-lunch-human-resources-7940
END:VEVENT

END:VCALENDAR
