BEGIN:VCALENDAR
VERSION:2.0
PRODID:-//ChamberMaster//Event Calendar 2.0//EN
METHOD:PUBLISH
X-PUBLISHED-TTL:P3D
REFRESH-INTERVAL:P3D
CALSCALE:GREGORIAN
BEGIN:VEVENT
DTSTART:20191025T190000Z
DTEND:20191025T200000Z
X-MICROSOFT-CDO-ALLDAYEVENT:FALSE
SUMMARY:"What's for Lunch" - How to Rock Your Next Radio Interview
DESCRIPTION:Being a guest on a radio station is a great way to gain credibility\, stand out from the crowd and build awareness.  However\, fear of public speaking\, can sink in when you are on the hot seat and diminish the confidence of even the savviest businessperson.  Jessica will share specific steps to take in order to rock a successful broadcast interview.
X-ALT-DESC;FMTTYPE=text/html:Being a guest on a radio station is a great way to gain credibility\, stand out from the crowd and build awareness.&nbsp\; However\, fear of public speaking\, can sink in when you are on the hot seat and diminish the confidence of even the savviest businessperson.&nbsp\; Jessica will share specific steps to take in order to rock a successful broadcast interview.
LOCATION:Wenatchee Valley Chamber of Commerce Conference Room 137 N. Wenatchee Ave
UID:e.289.7462
SEQUENCE:3
DTSTAMP:20260425T120726Z
URL:https://business.wenatchee.org/events/details/what-s-for-lunch-how-to-rock-your-next-radio-interview-7462
END:VEVENT

END:VCALENDAR
