BEGIN:VCALENDAR
VERSION:2.0
PRODID:-//ChamberMaster//Event Calendar 2.0//EN
METHOD:PUBLISH
X-PUBLISHED-TTL:P3D
REFRESH-INTERVAL:P3D
CALSCALE:GREGORIAN
BEGIN:VEVENT
DTSTART:20201211T200000Z
DTEND:20201211T210000Z
X-MICROSOFT-CDO-ALLDAYEVENT:FALSE
SUMMARY:What's For Lunch?- Employment Law Updates with JDSA
DESCRIPTION:Our What's For Lunch series is back and will be hosted by Attorney Stephanie Boehl with Jeffers\, Danielson\, Sonn & Aylward Law. Stephanie will cover significant updates such as minimum wage increase\, available leave\, and new changes to executive professionals. \n\n\n\nThis event is FREE\, register to receive the Zoom info.
X-ALT-DESC;FMTTYPE=text/html:Our What&#39\;s For Lunch series is back and will be hosted by Attorney Stephanie Boehl with Jeffers\, Danielson\, Sonn &amp\; Aylward Law. Stephanie will cover significant updates such as minimum wage increase\, available leave\, and new changes to executive professionals.&nbsp\;<br />\n<br />\nThis event is FREE\, register to receive the Zoom info.
LOCATION:Zoom
UID:e.289.7777
SEQUENCE:3
DTSTAMP:20260424T123428Z
URL:https://business.wenatchee.org/events/details/what-s-for-lunch-employment-law-updates-with-jdsa-7777
END:VEVENT

END:VCALENDAR
