BEGIN:VCALENDAR
VERSION:2.0
PRODID:-//ChamberMaster//Event Calendar 2.0//EN
METHOD:PUBLISH
X-PUBLISHED-TTL:P3D
REFRESH-INTERVAL:P3D
CALSCALE:GREGORIAN
BEGIN:VEVENT
DTSTART:20200717T190000Z
DTEND:20200717T200000Z
X-MICROSOFT-CDO-ALLDAYEVENT:FALSE
SUMMARY:What's For Lunch? : Demystifying Right People/Right Seats
DESCRIPTION:Learn what defines the Right People (RP) and the Right Seats (RS) in your unique organization and how to determine\, once and for all\, if your people are truly the Right People and if they are in the Right Seats. Cheri will show you a set of simple\, practical and proven tools that will help you identify what RP/RS looks like in your business and how to coach your people up or coach them out. Many businesses will find themselves needing to scale back\, while others are scaling up. Either way\, your people are your most valuable asset. These tools will mitigate (and when done well\, eliminate) the guesswork and ensure you have the Right People in the Right Seats. \n\n\n\nThis event is free\, please register to receive Zoom details to join.
X-ALT-DESC;FMTTYPE=text/html:<p>Learn what defines the Right People (RP)&nbsp\;<i>and</i> the Right Seats (RS) in your unique organization and how to determine\, once and for all\, if your people are truly the Right People and if they are in the Right Seats. Cheri will show you a set of simple\, practical and proven tools that will help&nbsp\;you identify what RP/RS looks like in your business and how to coach your people up or coach them out. Many businesses will find themselves needing to scale back\, while others are scaling up. Either way\, your people are your most valuable asset. These tools will mitigate (and when done well\, eliminate) the guesswork and ensure you have the Right People in the Right Seats.&nbsp\;<br />\n<br />\nThis event is free\, please register to receive Zoom details to join.</p>\n
LOCATION:Zoom Conference
UID:e.289.7715
SEQUENCE:3
DTSTAMP:20260424T222247Z
URL:https://business.wenatchee.org/events/details/what-s-for-lunch-demystifying-right-people-right-seats-7715
END:VEVENT

END:VCALENDAR
