BEGIN:VCALENDAR
VERSION:2.0
PRODID:-//ChamberMaster//Event Calendar 2.0//EN
METHOD:PUBLISH
X-PUBLISHED-TTL:P3D
REFRESH-INTERVAL:P3D
CALSCALE:GREGORIAN
BEGIN:VEVENT
DTSTART:20190726T190000Z
DTEND:20190726T200000Z
X-MICROSOFT-CDO-ALLDAYEVENT:FALSE
SUMMARY:What's for Lunch - Cybersecurity 101
DESCRIPTION:Presentation by: Martin Straub - SimplePowerIT\n\nCyberthreats are on the increase   from simple scams to more sophisticated hacking attempts.  This session will help increase your awareness and help better protect you and your business from common cyberthreats.
X-ALT-DESC;FMTTYPE=text/html:Presentation by: Martin Straub - SimplePowerIT<br />\nCyberthreats are on the increase &ndash\; from simple scams to more sophisticated hacking attempts.&nbsp\; This session will help increase your awareness and help better protect you and your business from common cyberthreats.
LOCATION:Wenatchee Valley Chamber of Commerce 137 N. Wenatchee Ave
UID:e.289.7349
SEQUENCE:3
DTSTAMP:20260425T163222Z
URL:https://business.wenatchee.org/events/details/what-s-for-lunch-cybersecurity-101-7349
END:VEVENT

END:VCALENDAR
