BEGIN:VCALENDAR
VERSION:2.0
PRODID:-//ChamberMaster//Event Calendar 2.0//EN
METHOD:PUBLISH
X-PUBLISHED-TTL:P3D
REFRESH-INTERVAL:P3D
CALSCALE:GREGORIAN
BEGIN:VEVENT
DTSTART:20211118T003000Z
DTEND:20211118T013000Z
X-MICROSOFT-CDO-ALLDAYEVENT:FALSE
SUMMARY:Wenatchi Wear Ribbon-Cutting
DESCRIPTION:Join us as we celebrate with Wenatchee Wear for a ribbon cutting ceremony!\n\n\n\nEnjoy appetizers from La Plaza\, light refreshments and 15% off Wenatchi Wear purchases made the day at the event.
X-ALT-DESC;FMTTYPE=text/html:<br />\n<span style="color: rgb(64\, 63\, 66)\; font-family: Roboto\, sans-serif\; font-size: 14px\; text-align: justify\;">Join us as we celebrate with Wenatchee Wear for a ribbon cutting ceremony!<br />\n<br />\nEnjoy appetizers from La Plaza\, light refreshments and 15% off Wenatchi Wear purchases made the day at the event.</span>
LOCATION:600 S. Mission St. Wenatchee\, WA 98801
UID:e.289.7909
SEQUENCE:3
DTSTAMP:20260424T184225Z
URL:https://business.wenatchee.org/events/details/wenatchi-wear-ribbon-cutting-7909
END:VEVENT

END:VCALENDAR
