BEGIN:VCALENDAR
VERSION:2.0
PRODID:-//ChamberMaster//Event Calendar 2.0//EN
METHOD:PUBLISH
X-PUBLISHED-TTL:P3D
REFRESH-INTERVAL:P3D
CALSCALE:GREGORIAN
BEGIN:VEVENT
DTSTART:20190123T000000Z
DTEND:20190123T020000Z
X-MICROSOFT-CDO-ALLDAYEVENT:FALSE
SUMMARY:Wenatchee Workspace Grand Opening Social
DESCRIPTION:Come check out Wenatchee's newest co-working community! We will kick things off with a Ribbon Cutting celebration at 4 followed by a casual open house. Enjoy light appetizers and refreshments while experiencing the "vibe" of this truly amazing space. Executive Director J Michael Walker will be there to greet you and answer any questions you may have.
X-ALT-DESC;FMTTYPE=text/html:<span style="color: rgb(29\, 33\, 41)\; font-family: Helvetica\, Arial\, sans-serif\; font-size: 14px\; white-space: pre-wrap\; background-color: rgb(255\, 255\, 255)\;">Come check out Wenatchee&#39\;s newest co-working community! We will kick things off with a Ribbon Cutting celebration at 4 followed by a casual open house. Enjoy light appetizers and refreshments while experiencing the &quot\;vibe&quot\; of this truly amazing space. Executive Director J Michael Walker will be there to greet you and answer any questions you may have.</span>
LOCATION:Located at 1737 N. Wenatchee Ave\, Suite B Behind Visconti's
UID:e.289.7096
SEQUENCE:3
DTSTAMP:20260426T025538Z
URL:https://business.wenatchee.org/events/details/wenatchee-workspace-grand-opening-social-7096
END:VEVENT

END:VCALENDAR
