BEGIN:VCALENDAR
VERSION:2.0
PRODID:-//ChamberMaster//Event Calendar 2.0//EN
METHOD:PUBLISH
X-PUBLISHED-TTL:P3D
REFRESH-INTERVAL:P3D
CALSCALE:GREGORIAN
BEGIN:VEVENT
DTSTART:20211031T230000Z
DTEND:20211101T010000Z
X-MICROSOFT-CDO-ALLDAYEVENT:FALSE
SUMMARY:Wenatchee Valley Mall Trunk-or-Treat Event
DESCRIPTION:Come join us for out spooktacular event\, trick-or-treating with a twist! Trunk-or-treat\, kids costume contest\, best dressed trunk contest & raffle.
X-ALT-DESC;FMTTYPE=text/html:Come join us for out spooktacular event\, trick-or-treating with a twist! Trunk-or-treat\, kids costume contest\, best dressed trunk contest &amp\; raffle.
LOCATION:The parking lot next to Olive Garden.
UID:e.289.7896
SEQUENCE:3
DTSTAMP:20260424T152617Z
URL:https://business.wenatchee.org/events/details/wenatchee-valley-mall-trunk-or-treat-event-7896
END:VEVENT

END:VCALENDAR
