BEGIN:VCALENDAR
VERSION:2.0
PRODID:-//ChamberMaster//Event Calendar 2.0//EN
METHOD:PUBLISH
X-PUBLISHED-TTL:P3D
REFRESH-INTERVAL:P3D
CALSCALE:GREGORIAN
BEGIN:VEVENT
DTSTART:20190120T210000Z
DTEND:20190121T020000Z
X-MICROSOFT-CDO-ALLDAYEVENT:FALSE
SUMMARY:Wenatchee Valley Empty Bowls Community Painting Party
DESCRIPTION:The 7th Annual Wenatchee Valley Empty Bowls Community Paintings are on 3 Sundays from 1pm to 6pm at Pybus Public Market: December 2\, January 20\, February 17.\n\nThe purpose of this event is to "Inspire Creativity\, Build Community\, and Raise Awareness About Food Insecurity and Hunger In Chelan and Douglas Counties."\n\nEmpty Bowls is an international grassroots effort to fight the growing issue of food insecurity and hunger across the world through artistic expression\, community engagement\, and education on how to contribute to hunger relief actions. Here in Wenatchee\, Chelan-Douglas Community Action Council\, with the help of several generous sponsoring local businesses and organizations\, hosts community bowl paintings throughout the winter months and a simple soup and bread dinner in the spring to do just that.\n\nWith a $10 dollar donation to the North Central Washington Food Distribution Center\, anyone can receive a blank bowl that they will be given all the materials and instruction needed to personalize it with paint. For $35 a family can paint up to 5 bowls. Your bowl then gets a final layer of glaze and is fired into a finished masterpiece. Your donation includes admission into our dinner in the spring\, where we gather around a simple soup and bread dinner to work against hunger in our community.\n\nThe soup and bread dinner will be at a location TBD in the spring of 2019.
X-ALT-DESC;FMTTYPE=text/html:<p style="box-sizing: border-box\; margin: 0px 0px 10px\; font-family: Arial\, Helvetica\, Garuda\, sans-serif\; font-size: 14px\; background-color: rgb(245\, 246\, 247)\;">The 7th Annual Wenatchee Valley Empty Bowls Community Paintings are on 3 Sundays from 1pm to 6pm at Pybus Public Market:&nbsp\;December 2\, January 20\, February 17.</p>\n\n<p style="box-sizing: border-box\; margin: 0px 0px 10px\; font-family: Arial\, Helvetica\, Garuda\, sans-serif\; font-size: 14px\; background-color: rgb(245\, 246\, 247)\;">The purpose of this event is to &ldquo\;Inspire Creativity\, Build Community\, and Raise Awareness About Food Insecurity and Hunger In Chelan and Douglas Counties.&rdquo\;</p>\n\n<p style="box-sizing: border-box\; margin: 0px 0px 10px\; font-family: Arial\, Helvetica\, Garuda\, sans-serif\; font-size: 14px\; background-color: rgb(245\, 246\, 247)\;">Empty Bowls is an international grassroots effort to fight the growing issue of food insecurity and hunger across the world through artistic expression\, community engagement\, and education on how to contribute to hunger relief actions. Here in Wenatchee\, Chelan-Douglas Community Action Council\, with the help of several generous sponsoring local businesses and organizations\, hosts community bowl paintings throughout the winter months and a simple soup and bread dinner in the spring to do just that.</p>\n\n<p style="box-sizing: border-box\; margin: 0px 0px 10px\; font-family: Arial\, Helvetica\, Garuda\, sans-serif\; font-size: 14px\; background-color: rgb(245\, 246\, 247)\;">With a $10 dollar donation to the North Central Washington Food Distribution Center\, anyone can receive a blank bowl that they will be given all the materials and instruction needed to personalize it with paint. For $35 a family can paint up to 5 bowls. Your bowl then gets a final layer of glaze and is fired into a finished masterpiece. Your donation includes admission into our dinner in the spring\, where we gather around a simple soup and bread dinner to work against hunger in our community.</p>\n\n<p style="box-sizing: border-box\; margin: 0px 0px 10px\; font-family: Arial\, Helvetica\, Garuda\, sans-serif\; font-size: 14px\; background-color: rgb(245\, 246\, 247)\;">The soup and bread dinner will be at a location TBD in the spring of 2019.</p>\n
LOCATION:Pybus Public Market
UID:e.289.7059
SEQUENCE:3
DTSTAMP:20260426T025807Z
URL:https://business.wenatchee.org/events/details/wenatchee-valley-empty-bowls-community-painting-party-7059
END:VEVENT

END:VCALENDAR
