BEGIN:VCALENDAR
VERSION:2.0
PRODID:-//ChamberMaster//Event Calendar 2.0//EN
METHOD:PUBLISH
X-PUBLISHED-TTL:P3D
REFRESH-INTERVAL:P3D
CALSCALE:GREGORIAN
BEGIN:VEVENT
DTSTART:20210921T170000Z
DTEND:20210921T220000Z
X-MICROSOFT-CDO-ALLDAYEVENT:FALSE
SUMMARY:Wenatchee Valley Community Job Fair
DESCRIPTION:Come Prepared to Apply. Resumes are Encouraged.\n\nThe job fair is open to the community and job seekers of all ages are encouraged to apply. NCW employers from a wide variety of career fields will be available to discuss prospective job openings with individuals seeking full-time\, part-time or seasonal employment. \n\nAttention Businesses!\n\nHost a table at no cost and promote your current employment opportunities to hundreds of potential employees. Contact Katie Baldwin\, Operations and Outreach Coordinator\, at katie@wenatcheedowntown.org or 662-0059 for more information or to reserve your space today!
X-ALT-DESC;FMTTYPE=text/html:<p><strong>Come Prepared to Apply. Resumes are Encouraged.</strong><br />\nThe job fair is open to the community and job seekers of all ages are encouraged to apply. NCW employers from a wide variety of career fields will be available to discuss prospective job openings with individuals seeking full-time\, part-time or seasonal employment.&nbsp\;</p>\n\n<p><strong>Attention Businesses!</strong><br />\nHost a table at no cost and promote your current employment opportunities to hundreds of potential employees. Contact Katie Baldwin\, Operations and Outreach Coordinator\, at katie@wenatcheedowntown.org or 662-0059 for more information or to reserve your space today!</p>\n
LOCATION:Wenatchee Convention Center\, 121 N. Wenatchee Ave\, Wenatchee\, WA 98801
UID:e.289.7882
SEQUENCE:3
DTSTAMP:20260424T135515Z
URL:https://business.wenatchee.org/events/details/wenatchee-valley-community-job-fair-7882
END:VEVENT

END:VCALENDAR
