BEGIN:VCALENDAR
VERSION:2.0
PRODID:-//ChamberMaster//Event Calendar 2.0//EN
METHOD:PUBLISH
X-PUBLISHED-TTL:P3D
REFRESH-INTERVAL:P3D
CALSCALE:GREGORIAN
BEGIN:VEVENT
DTSTART:20231020T003000Z
DTEND:20231020T023000Z
X-MICROSOFT-CDO-ALLDAYEVENT:FALSE
SUMMARY:Wenatchee Social Circle
DESCRIPTION:Come Make Friends and Build Community Connections!\n\nIf you are new to the Wenatchee area and/or wanting to make new connections\, come to The Wenatchee Social Circle. Connect with community and grow your roots the fun and easy way. We provide a very casual\, fun and social environment where everyone feels comfortable and welcome.\n\nWenatchee Social Circle Details:\n\n- Is Open to Everyone\, Family Friendly\n\n- Great Way to Forge Friendships\n\n- Extend Community Access\n\n- Casual and Fun Atmosphere\n\n- No-Host Bar will be Available\n\nPlease share out to anyone as you see fit. We hope to see you there!
X-ALT-DESC;FMTTYPE=text/html:<div class="xdj266r x11i5rnm xat24cr x1mh8g0r x1vvkbs" style="margin: 0px\; overflow-wrap: break-word\; font-family: &quot\;Segoe UI Historic&quot\;\, &quot\;Segoe UI&quot\;\, Helvetica\, Arial\, sans-serif\; color: rgb(5\, 5\, 5)\; font-size: 15px\; background-color: rgb(255\, 255\, 255)\;">Come Make Friends and Build Community Connections!</div>\n\n<div class="x11i5rnm xat24cr x1mh8g0r x1vvkbs xtlvy1s" style="margin: 0.5em 0px 0px\; overflow-wrap: break-word\; font-family: &quot\;Segoe UI Historic&quot\;\, &quot\;Segoe UI&quot\;\, Helvetica\, Arial\, sans-serif\; color: rgb(5\, 5\, 5)\; font-size: 15px\; background-color: rgb(255\, 255\, 255)\;">If you are new to the Wenatchee area and/or wanting to make new connections\, come to The Wenatchee Social Circle. Connect with community and grow your roots the fun and easy way. We provide a very casual\, fun and social environment where everyone feels comfortable and welcome.</div>\n\n<div class="x11i5rnm xat24cr x1mh8g0r x1vvkbs xtlvy1s" style="margin: 0.5em 0px 0px\; overflow-wrap: break-word\; font-family: &quot\;Segoe UI Historic&quot\;\, &quot\;Segoe UI&quot\;\, Helvetica\, Arial\, sans-serif\; color: rgb(5\, 5\, 5)\; font-size: 15px\; background-color: rgb(255\, 255\, 255)\;">Wenatchee Social Circle Details:<br />\n- Is Open to Everyone\, Family Friendly<br />\n- Great Way to Forge Friendships<br />\n- Extend Community Access<br />\n- Casual and Fun Atmosphere<br />\n- No-Host Bar will be Available</div>\n\n<div class="x11i5rnm xat24cr x1mh8g0r x1vvkbs xtlvy1s" style="margin: 0.5em 0px 0px\; overflow-wrap: break-word\; font-family: &quot\;Segoe UI Historic&quot\;\, &quot\;Segoe UI&quot\;\, Helvetica\, Arial\, sans-serif\; color: rgb(5\, 5\, 5)\; font-size: 15px\; background-color: rgb(255\, 255\, 255)\;">Please share out to anyone as you see fit. We hope to see you there!</div>\n
LOCATION:Wenatchee Valley Brewing Co.
UID:e.289.8647
SEQUENCE:3
DTSTAMP:20260422T042331Z
URL:https://business.wenatchee.org/events/details/wenatchee-social-circle-8647
END:VEVENT

END:VCALENDAR
