BEGIN:VCALENDAR
VERSION:2.0
PRODID:-//ChamberMaster//Event Calendar 2.0//EN
METHOD:PUBLISH
X-PUBLISHED-TTL:P3D
REFRESH-INTERVAL:P3D
CALSCALE:GREGORIAN
BEGIN:VEVENT
DTSTART:20191024T020000Z
DTEND:20191024T033000Z
X-MICROSOFT-CDO-ALLDAYEVENT:FALSE
SUMMARY:Wenatchee River Institute Red Barn speaker\, Water Rights
DESCRIPTION:Oct. 23\, join attorney Erin McCool as she offers an introduction to water rights law in Washington State. McCool will provide a history of how water code developed and how the court has interpreted the code over passing years. The discussion will also include current issues in the private market\, as well as local issues that arise between competing interests for a limited resource. McCool is a Member at Ogden Murphy Wallace PLLC and her practice emphasizes on general litigation\, employment & labor law\, land use and water law. A Wenatchee resident\, she is an active member of the community serving as the Legislative and Diversity Director for the Apple Valley Human Resources Association\, and a current board member of the Chelan Douglas Volunteer Attorney Services.
X-ALT-DESC;FMTTYPE=text/html:Oct. 23\, join attorney Erin McCool as she offers an introduction to water rights law in Washington State. McCool will provide a history of how water code developed and how the court has interpreted the code over passing years. The discussion will also include current issues in the private market\, as well as local issues that arise between competing interests for a limited resource. McCool is a Member at Ogden Murphy Wallace PLLC and her practice emphasizes on general litigation\, employment &amp\; labor law\, land use and water law. A Wenatchee resident\, she is an active member of the community serving as the Legislative and Diversity Director for the Apple Valley Human Resources Association\, and a current board member of the Chelan Douglas Volunteer Attorney Services.
LOCATION:Wenatchee River Institute 347 DIvision Street Leavenworth\, WA 98826
UID:e.289.7459
SEQUENCE:3
DTSTAMP:20260425T135356Z
URL:https://business.wenatchee.org/events/details/wenatchee-river-institute-red-barn-speaker-water-rights-7459
END:VEVENT

END:VCALENDAR
