BEGIN:VCALENDAR
VERSION:2.0
PRODID:-//ChamberMaster//Event Calendar 2.0//EN
METHOD:PUBLISH
X-PUBLISHED-TTL:P3D
REFRESH-INTERVAL:P3D
CALSCALE:GREGORIAN
BEGIN:VEVENT
DTSTART:20191102T003000Z
DTEND:20191102T040000Z
X-MICROSOFT-CDO-ALLDAYEVENT:FALSE
SUMMARY:Wellness Place Gala Benefit
DESCRIPTION:Join us for our 6th Annual Fundraising Gala and help us "Celebrate Under the Stars" on Friday\, November 1st from 5:30-9:00pm at the Pybus Events Center. Enjoy a delicious dinner by Chef's Edge\, live and silent auctions to support neighbors in need\, and community fellowship through connection and inspiration. Tickets are $60 per person and available at www.wellnessplacewenatchee.org. With the power of donations and community engagement\, we're able to provide FREE support to cancer patients and their families\, healthy aging programs and more!
X-ALT-DESC;FMTTYPE=text/html:Join us for our 6th Annual Fundraising Gala and help us &quot\;Celebrate Under the Stars&quot\; on Friday\, November 1st from 5:30-9:00pm at the Pybus Events Center. Enjoy a delicious dinner by Chef&#39\;s Edge\, live and silent auctions to support neighbors in need\, and community fellowship through connection and inspiration. Tickets are $60 per person and available at www.wellnessplacewenatchee.org. With the power of donations and community engagement\, we&#39\;re able to provide FREE support to cancer patients and their families\, healthy aging programs and more!
LOCATION:Pybus Market\, Wenatchee\, WA
UID:e.289.7457
SEQUENCE:3
DTSTAMP:20260425T114100Z
URL:https://business.wenatchee.org/events/details/wellness-place-gala-benefit-7457
END:VEVENT

END:VCALENDAR
