BEGIN:VCALENDAR
VERSION:2.0
PRODID:-//ChamberMaster//Event Calendar 2.0//EN
METHOD:PUBLISH
X-PUBLISHED-TTL:P3D
REFRESH-INTERVAL:P3D
CALSCALE:GREGORIAN
BEGIN:VEVENT
DTSTART:20200927T013000Z
DTEND:20200927T023000Z
X-MICROSOFT-CDO-ALLDAYEVENT:FALSE
SUMMARY:Wellness Place 7th Annual Gala Auction (VIRTUAL)
DESCRIPTION:The health and wellness of our community continues to be a top priority at Wellness Place. For this reason we have decided to to take our 7th Annual Gala Auction VIRTUAL!\n\n\n\nJoin auctioneer extraordinaire Cody Hodge and Wellness Place Executive Director Julie Lindholm for a live-streaming  evening of fun!  Our virtual event will include a live online auction with fabulous items and experiences\, along with messages from our cancer warriors. To kick off the event\, check out and bid on our silent online auction items\, opening Saturday\, September 19 for a whole week!  Celebrate with us and bid from anywhere on your smartphone\, table or computer.  Registration to bid is FREE at www.cancersupportncw.org.\n\n\n\n"Celebrate Under the Stars" with your family and loved ones and help support our NCW cancer community. \n\n \n\nFor more information visit www.cancersupportncw.org\, call 509-888-9933\, or email julie@wellnessplacewenatchee.org
X-ALT-DESC;FMTTYPE=text/html:The health and wellness of our community continues to be a top priority at Wellness Place. For this reason we have decided to to take our 7th Annual Gala Auction VIRTUAL!<br />\n<br />\nJoin auctioneer extraordinaire Cody Hodge and Wellness Place Executive Director Julie Lindholm for a live-streaming &nbsp\;evening of fun!&nbsp\; Our virtual event will include a live online auction with fabulous items and experiences\, along with messages from our cancer warriors. To kick off the event\, check out and bid on our silent online auction items\, opening Saturday\, September 19 for a whole week!&nbsp\; Celebrate with us and bid from anywhere on your smartphone\, table or computer.&nbsp\; Registration to bid is FREE at <a href="http://www.cancersupportncw.org">www.cancersupportncw.org</a>.<br />\n<br />\n&ldquo\;Celebrate Under the Stars&rdquo\; with your family and loved ones and help support our NCW cancer community.&nbsp\;<br />\n&nbsp\;<br />\nFor more information visit <a href="http://www.cancersupportncw.org">www.cancersupportncw.org</a>\, call 509-888-9933\, or email <a href="mailto:julie@wellnessplacewenatchee.org">julie@wellnessplacewenatchee.org</a>
LOCATION:Celebrate with us from anywhere on your smartphone or computer
UID:e.289.7710
SEQUENCE:3
DTSTAMP:20260424T172835Z
URL:https://business.wenatchee.org/events/details/wellness-place-7th-annual-gala-auction-virtual-7710
END:VEVENT

END:VCALENDAR
