BEGIN:VCALENDAR
VERSION:2.0
PRODID:-//ChamberMaster//Event Calendar 2.0//EN
METHOD:PUBLISH
X-PUBLISHED-TTL:P3D
REFRESH-INTERVAL:P3D
CALSCALE:GREGORIAN
BEGIN:VEVENT
DTSTART:20200515T190000Z
DTEND:20200515T200000Z
X-MICROSOFT-CDO-ALLDAYEVENT:FALSE
SUMMARY:Webinar with Fletcher Ellingson: One Way to Change Your Thinking
DESCRIPTION:Join us virtually for 'What's For Lunch' on Friday\, May 15th at 12pm\, hosted by Fletcher Ellingson\, founder of Ellingson Enterprises\, a coaching and training company. Fletcher works to help business owners thrive amidst times of uncertainty. So bring your own lunch and learn about the "one thing" that will change your way of thinking.\n\n\n\nThis event is free\, please register to join virtually.
X-ALT-DESC;FMTTYPE=text/html:Join us virtually for &#39\;What&#39\;s For Lunch&#39\; on Friday\, May 15th at 12pm\, hosted by Fletcher Ellingson\, founder of Ellingson Enterprises\, a coaching and training company. Fletcher works to help business owners thrive amidst times of uncertainty. So bring your own lunch and learn about the &quot\;one thing&quot\; that will change your way of thinking.<br />\n<br />\nThis event is free\, please register to join virtually.
LOCATION:Zoom Conference
UID:e.289.7711
SEQUENCE:3
DTSTAMP:20260425T015115Z
URL:https://business.wenatchee.org/events/details/webinar-with-fletcher-ellingson-one-way-to-change-your-thinking-7711
END:VEVENT

END:VCALENDAR
