BEGIN:VCALENDAR
VERSION:2.0
PRODID:-//ChamberMaster//Event Calendar 2.0//EN
METHOD:PUBLISH
X-PUBLISHED-TTL:P3D
REFRESH-INTERVAL:P3D
CALSCALE:GREGORIAN
BEGIN:VEVENT
DTSTART:20190328T003000Z
DTEND:20190328T013000Z
X-MICROSOFT-CDO-ALLDAYEVENT:FALSE
SUMMARY:WEBB - Women Empowered by Business
DESCRIPTION:Come hear how you can create the income and lifestyle you desire through business ownership. Wendy Dalpez\, Alternative Career Coach and multi-unit award winning franchise owner for The Entrepreneur's Source will present "WEBB - Women Empowered by Business" to help you learn about women as entrepreneurs and the different opportunities and resources available to help you get started.\n\n\n\nTickets: $10/person\n\n \n\n*** Ticket price includes a FREE copy of the book"Your Career 2.0" ***
X-ALT-DESC;FMTTYPE=text/html:<p style="margin: 0px\; padding: 0px\; color: rgb(111\, 114\, 135)\; font-family: &quot\;Neue Plak&quot\;\, -apple-system\, BlinkMacSystemFont\, Roboto\, &quot\;Helvetica Neue&quot\;\, Helvetica\, Tahoma\, Arial\, sans-serif\; font-size: 19px\; letter-spacing: 0.5px\;">Come hear how you can create the income and lifestyle you desire through business ownership. Wendy Dalpez\, Alternative Career Coach and multi-unit award winning franchise owner for The Entrepreneur&#39\;s Source will present &quot\;WEBB - Women Empowered by Business&quot\; to help you learn about women as entrepreneurs and the different opportunities and resources available to help you get started.<br />\n<br />\nTickets: $10/person</p>\n\n<p style="margin: 0px\; padding: 10px 0px 0px\; color: rgb(111\, 114\, 135)\; font-family: &quot\;Neue Plak&quot\;\, -apple-system\, BlinkMacSystemFont\, Roboto\, &quot\;Helvetica Neue&quot\;\, Helvetica\, Tahoma\, Arial\, sans-serif\; font-size: 19px\; letter-spacing: 0.5px\;">&nbsp\;</p>\n\n<p style="margin: 0px\; padding: 10px 0px 0px\; color: rgb(111\, 114\, 135)\; font-family: &quot\;Neue Plak&quot\;\, -apple-system\, BlinkMacSystemFont\, Roboto\, &quot\;Helvetica Neue&quot\;\, Helvetica\, Tahoma\, Arial\, sans-serif\; font-size: 19px\; letter-spacing: 0.5px\;">*** Ticket price includes a FREE copy of the book&quot\;Your Career 2.0&quot\; ***</p>\n
LOCATION:Pybus Public Market 3 North Worthen Street Wenatchee\, WA 98801
UID:e.289.7201
SEQUENCE:3
DTSTAMP:20260425T232748Z
URL:https://business.wenatchee.org/events/details/webb-women-empowered-by-business-7201
END:VEVENT

END:VCALENDAR
