BEGIN:VCALENDAR
VERSION:2.0
PRODID:-//ChamberMaster//Event Calendar 2.0//EN
METHOD:PUBLISH
X-PUBLISHED-TTL:P3D
REFRESH-INTERVAL:P3D
CALSCALE:GREGORIAN
BEGIN:VEVENT
DTSTART:20190306T030000Z
DTEND:20190306T050000Z
X-MICROSOFT-CDO-ALLDAYEVENT:FALSE
SUMMARY:Wasted! The Story of Food Waste
DESCRIPTION:The museum's Environmental Film and Lecture Series sponsored by The Wenatchee River Institute presents WASTED! The Story of Food Waste. This film aims to change the way people buy\, cook\, recycle\, and eat food. Free and open to the public. A $5 donation is suggested. Light refreshments will be provided along with a no-host wine bar. Thank you to Sustainable Wenatchee for sponsoring this event.
X-ALT-DESC;FMTTYPE=text/html:The museum&rsquo\;s Environmental Film and Lecture Series sponsored by The Wenatchee River Institute presents WASTED! The Story of Food Waste. This film aims to change the way people buy\, cook\, recycle\, and eat food. Free and open to the public. A $5 donation is suggested. Light refreshments will be provided along with a no-host wine bar. Thank you to Sustainable Wenatchee for sponsoring this event.
LOCATION:Wenatchee Valley Museum & Cultural Center
UID:e.289.7179
SEQUENCE:3
DTSTAMP:20260425T233222Z
URL:https://business.wenatchee.org/events/details/wasted-the-story-of-food-waste-7179
END:VEVENT

END:VCALENDAR
