BEGIN:VCALENDAR
VERSION:2.0
PRODID:-//ChamberMaster//Event Calendar 2.0//EN
METHOD:PUBLISH
X-PUBLISHED-TTL:P3D
REFRESH-INTERVAL:P3D
CALSCALE:GREGORIAN
BEGIN:VEVENT
DTSTART:20230608T223000Z
DTEND:20230609T000000Z
X-MICROSOFT-CDO-ALLDAYEVENT:FALSE
SUMMARY:Washington in the Making 2040
DESCRIPTION:Join the Association of Washington Business and the Washington Roundtable in shaping the future of Washington's economy. With the population set to reach 9 million by 2040\, it's important to have a proactive vision and plan. Join our town hall meeting and make your voice known as we research how to support economic prosperity in every county. This event will help to create the foundation of a plan to get there.
X-ALT-DESC;FMTTYPE=text/html:<span style="font-family:calibri light\,sans-serif\;">Join the Association of Washington Business and the Washington Roundtable in shaping the future of Washington&#39\;s economy. With the population set to reach 9 million by 2040\, it&#39\;s important to have a proactive vision and plan. Join our town hall meeting and make your voice known as we research how to support economic prosperity in every county. This event will help to create the foundation of a plan to get there. </span><br />\n&nbsp\;
LOCATION:
UID:e.289.8275
SEQUENCE:3
DTSTAMP:20260424T204209Z
URL:https://business.wenatchee.org/events/details/washington-in-the-making-2040-8275
END:VEVENT

END:VCALENDAR
