BEGIN:VCALENDAR
VERSION:2.0
PRODID:-//ChamberMaster//Event Calendar 2.0//EN
METHOD:PUBLISH
X-PUBLISHED-TTL:P3D
REFRESH-INTERVAL:P3D
CALSCALE:GREGORIAN
BEGIN:VEVENT
DTSTART:20190511T160000Z
DTEND:20190511T220000Z
X-MICROSOFT-CDO-ALLDAYEVENT:FALSE
SUMMARY:Walk and Party in the Park
DESCRIPTION:Safe Routes to Parks - activating communities!
X-ALT-DESC;FMTTYPE=text/html:Safe Routes to Parks - activating communities!&nbsp\;<br />\n&nbsp\;
LOCATION:9am: Meet at Kiwanis Methow Park 9:30am: Walk around the neighborhood to share your opinion on park access 11am: Talk about park access at Wenatchee Community Center - FREE lunch provided 1pm: Eat FREE aguas fescas\, paletas & tamales at Kiwanis Methow Park 2pm: Hear remarks about park renovations 2:30pm: listen to Mariachi & watch Folklorico
UID:e.289.7297
SEQUENCE:3
DTSTAMP:20260425T200729Z
URL:https://business.wenatchee.org/events/details/walk-and-party-in-the-park-7297
END:VEVENT

END:VCALENDAR
