BEGIN:VCALENDAR
VERSION:2.0
PRODID:-//ChamberMaster//Event Calendar 2.0//EN
METHOD:PUBLISH
X-PUBLISHED-TTL:P3D
REFRESH-INTERVAL:P3D
CALSCALE:GREGORIAN
BEGIN:VEVENT
DTSTART:20220526T200000Z
DTEND:20220526T210000Z
X-MICROSOFT-CDO-ALLDAYEVENT:FALSE
SUMMARY:Virtual National Volunteer Fair to Become a Red Cross Volunteer
DESCRIPTION:Every day\, the American Red Cross sees the heartbreak of people trying to cope with more intense storms\, heavier rainfall\, higher temperatures\, stronger hurricanes and more devastating wildfires. As more people rely on the Red Cross for help\, the need for compassionate volunteers has never been greater. Join us on Thursday\, May 26\, 2022\, anytime between 1-2 pm PST to learn more!
X-ALT-DESC;FMTTYPE=text/html:Every day\, the American Red Cross sees the heartbreak of people trying to cope with more intense storms\, heavier rainfall\, higher temperatures\, stronger hurricanes and more devastating wildfires. As more people rely on the Red Cross for help\, the need for compassionate volunteers has never been greater. Join us on Thursday\, May 26\, 2022\, anytime between 1-2 pm PST to learn more!
LOCATION:Virtual
UID:e.289.8077
SEQUENCE:3
DTSTAMP:20260425T135734Z
URL:https://business.wenatchee.org/events/details/virtual-national-volunteer-fair-to-become-a-red-cross-volunteer-8077
END:VEVENT

END:VCALENDAR
