BEGIN:VCALENDAR
VERSION:2.0
PRODID:-//ChamberMaster//Event Calendar 2.0//EN
METHOD:PUBLISH
X-PUBLISHED-TTL:P3D
REFRESH-INTERVAL:P3D
CALSCALE:GREGORIAN
BEGIN:VEVENT
DTSTART:20211001T010000Z
DTEND:20211001T030000Z
X-MICROSOFT-CDO-ALLDAYEVENT:FALSE
SUMMARY:Veterans Social Gathering
DESCRIPTION:Looking for families and friends of fallen Veterans to join us for a social gathering to meet old and new friends. Open to all who have lost their active duty or discharge service member. Please join us for comradery and refreshments.
X-ALT-DESC;FMTTYPE=text/html:Looking for families and friends of fallen Veterans to join us for a social gathering to meet old and new friends. Open to all who have lost their active duty or discharge service member. Please join us for comradery and refreshments.
LOCATION:Wenatchee Valley Veterans Hall\, 1206 N. Wenatchee Ave. Wenatchee\, WA 98801. Side entrance of Eagles building\, facing Buzz Inn.
UID:e.289.7886
SEQUENCE:3
DTSTAMP:20260424T135235Z
URL:https://business.wenatchee.org/events/details/veterans-social-gathering-7886
END:VEVENT

END:VCALENDAR
