BEGIN:VCALENDAR
VERSION:2.0
PRODID:-//ChamberMaster//Event Calendar 2.0//EN
METHOD:PUBLISH
X-PUBLISHED-TTL:P3D
REFRESH-INTERVAL:P3D
CALSCALE:GREGORIAN
BEGIN:VEVENT
DTSTART:20200918T190000Z
DTEND:20200918T200000Z
X-MICROSOFT-CDO-ALLDAYEVENT:FALSE
SUMMARY:UpSkill 101
DESCRIPTION:UpSkill is a program sponsored by Microsoft\, LinkedIn\, and GitHub\, led by the non-profit GWATA to bring free online training for job seekers and professionals.\n\nThis webinar will take you through the UpSkill website where you can easily find hundreds of online courses to take at your own pace. From digital skills\, like learning more about excel and how to use Zoom to soft skills such as Embracing Unexpected Change and Effective Listening. You can also follow one of the top 10 career paths identified by Microsoft as the most in demand to earn a full certification. The opportunity to learn is unlimited on the Upskill website.
X-ALT-DESC;FMTTYPE=text/html:UpSkill is a program sponsored by Microsoft\, LinkedIn\, and GitHub\, led by the non-profit GWATA to bring free online training for job seekers and professionals.<br />\nThis webinar will take you through the UpSkill website where you can easily find hundreds of online courses to take at your own pace. From digital skills\, like learning more about excel and how to use Zoom to soft skills such as Embracing Unexpected Change and Effective Listening. You can also follow one of the top 10 career paths identified by Microsoft as the most in demand to earn a full certification. The opportunity to learn is unlimited on the Upskill website.
LOCATION:This webinar is offered at several times
UID:e.289.7753
SEQUENCE:3
DTSTAMP:20260424T172415Z
URL:https://business.wenatchee.org/events/details/upskill-101-7753
END:VEVENT

END:VCALENDAR
