BEGIN:VCALENDAR
VERSION:2.0
PRODID:-//ChamberMaster//Event Calendar 2.0//EN
METHOD:PUBLISH
X-PUBLISHED-TTL:P3D
REFRESH-INTERVAL:P3D
CALSCALE:GREGORIAN
BEGIN:VEVENT
DTSTART:20190125T180000Z
DTEND:20190130T040000Z
X-MICROSOFT-CDO-ALLDAYEVENT:FALSE
SUMMARY:Upper Valley Empty Bowls Glazing Days
DESCRIPTION:Come glaze a bowl and raise money to feed our community's hungry at the Upper Valley Empty Bowls Festival Glazing Days. Glazing Days begin Friday\, January 25 (12-8pm) at the Woodpecker Room at the Sleeping Lady Mountain Resort. Glazing continues Saturday January 26-Tuesday January 29 (10am-8pm). All ages are welcome\, no experience is necessary\, and volunteers are on hand to offer advice. This is also your chance to buy a ticket to the Empty Bowls Soup Supper on March 21. Hurry\, tickets sell out fast! All proceeds go to the Community Cupboard food bank and a local art grant benefitting youth in Leavenworth.
X-ALT-DESC;FMTTYPE=text/html:Come glaze a bowl and raise money to feed our community&rsquo\;s hungry at the Upper Valley Empty Bowls Festival Glazing Days. Glazing Days begin Friday\, January 25 (12-8pm) at the Woodpecker Room at the Sleeping Lady Mountain Resort. Glazing continues Saturday January 26-Tuesday January 29 (10am-8pm). All ages are welcome\, no experience is necessary\, and volunteers are on hand to offer advice. This is also your chance to buy a ticket to the Empty Bowls Soup Supper on March 21. Hurry\, tickets sell out fast! All proceeds go to the Community Cupboard food bank and a local art grant benefitting youth in Leavenworth.
LOCATION:Woodpecker Room at Sleeping Lady Mountain Resort
UID:e.289.7058
SEQUENCE:3
DTSTAMP:20260426T025350Z
URL:https://business.wenatchee.org/events/details/upper-valley-empty-bowls-glazing-days-7058
END:VEVENT

END:VCALENDAR
